BEGIN:VCALENDAR
VERSION:2.0
PRODID:-//dhtmlXScheduler//NONSGML v2.2//EN
X-WR-CALNAME:Wydarzenia
BEGIN:VEVENT
DTSTART:20240215T133000
DTEND:20260420T060141
UID:1
SUMMARY:Komunikat Okręgowej Komisji Wyborczej nr 17
END:VEVENT
END:VCALENDAR