BEGIN:VCALENDAR
VERSION:2.0
PRODID:-//dhtmlXScheduler//NONSGML v2.2//EN
X-WR-CALNAME:Wydarzenia
BEGIN:VEVENT
DTSTART:20250521T163000
DTEND:20250521T183000
UID:1
SUMMARY:Majowe spotkanie Dyskusyjnego Klubu Książki
END:VEVENT
END:VCALENDAR