BEGIN:VCALENDAR
VERSION:2.0
PRODID:-//dhtmlXScheduler//NONSGML v2.2//EN
X-WR-CALNAME:Wydarzenia
BEGIN:VEVENT
DTSTART:20221003T000000
DTEND:20260420T060141
UID:1
SUMMARY:Spotkanie organizacyjne dla studentów I roku I i II stopnia.
END:VEVENT
END:VCALENDAR