BEGIN:VCALENDAR
VERSION:2.0
PRODID:-//dhtmlXScheduler//NONSGML v2.2//EN
X-WR-CALNAME:Wydarzenia
BEGIN:VEVENT
DTSTART:20240118T180000
DTEND:20260423T010243
UID:1
SUMMARY:Spotkanie z pisarką Małgorzatą Rejmer w Kawiarni FAMA.
END:VEVENT
END:VCALENDAR